BEGIN:VCALENDAR
VERSION:2.0
PRODID:-//ChamberMaster//Event Calendar 2.0//EN
METHOD:PUBLISH
X-PUBLISHED-TTL:P3D
REFRESH-INTERVAL:P3D
CALSCALE:GREGORIAN
BEGIN:VEVENT
DTSTART:20090821T003000Z
DTEND:20090821T020000Z
X-MICROSOFT-CDO-ALLDAYEVENT:FALSE
SUMMARY:South Mountain/Laveen Chamber After 5 Mixer
DESCRIPTION:.style1 {\n	font-family: Arial\;\n	font-size: 9pt\;\n	color: #666666\;\n}\n\n\n\nMix and Mingle and make valuable business connections!  Join us for an evening of food\, fun and prizes.\nNo Host Patio Bar will be open.
X-ALT-DESC;FMTTYPE=text/html:\n<head>\n<style type="text/css">\n.style1 {\n	font-family: Arial\;\n	font-size: 9pt\;\n	color: #666666\;\n}\n</style>\n</head>\n\n<span class="style1"><strong>Mix and Mingle</strong> and make valuable business connections!  Join us for an evening of food\, fun and prizes.<P></P>\nNo Host Patio Bar will be open.  
LOCATION:3220 E. Baseline Rd.\, Phoenix\, AZ 85042
UID:e.2665.1830
SEQUENCE:3
DTSTAMP:20260424T043534Z
URL:https://business.phoenixchamber.com/events/details/south-mountain-laveen-chamber-after-5-mixer-08-20-2009-1830
END:VEVENT

END:VCALENDAR
