BEGIN:VCALENDAR
VERSION:2.0
PRODID:-//ChamberMaster//Event Calendar 2.0//EN
METHOD:PUBLISH
X-PUBLISHED-TTL:P3D
REFRESH-INTERVAL:P3D
CALSCALE:GREGORIAN
BEGIN:VEVENT
DTSTART:20100226T003000Z
DTEND:20100226T033000Z
X-MICROSOFT-CDO-ALLDAYEVENT:FALSE
SUMMARY:Spirit of South Mountain Awards Dinner
DESCRIPTION:.style1 {\n	font-family: Arial\;\n	font-size: 9pt\;\n	color: #666666\;\n}\n.style3 {\n	color: #666666\;\n}\n.style4 {\n	text-decoration: underline\;\n	font-family: Arial\;\n	font-size: 9pt\;\n}\n.style5 {\n	font-family: Arial\;\n	font-size: 9pt\;\n}\n.style6 {\n	color: #7797CE\;\n}\n\n\n\n\n\n5:30 pm: Patio Reception\n\n6:30pm: Dinner Seating\nJoin the South Mountain/Laveen Chapter to celebrate the rich \nhistory and cultural diversity of South Mountain at the 5th Annual Spirit of \nSouth Mountain Awards Dinner at The Secret Garden in Phoenix. The event will \ncelebrate successful community partnering between entities that contribute to \nour quality of life.\nAward Categories:\n\nLocal Business: South Mountain/Laveen\n\nNon-Profit Agency\n\nIndividual Volunteer for 2009\n\nLocal Government Agency\n\nEducation/School Administrator\n\n\n\nClick here \nto download an Award Application\n\n\nNo refunds will be made for cancellations within 72 hours.
X-ALT-DESC;FMTTYPE=text/html:\n<head>\n<style type="text/css">\n.style1 {\n	font-family: Arial\;\n	font-size: 9pt\;\n	color: #666666\;\n}\n.style3 {\n	color: #666666\;\n}\n.style4 {\n	text-decoration: underline\;\n	font-family: Arial\;\n	font-size: 9pt\;\n}\n.style5 {\n	font-family: Arial\;\n	font-size: 9pt\;\n}\n.style6 {\n	color: #7797CE\;\n}\n</style>\n</head>\n\n<br class="style1">\n<p><span class="style1">5:30 pm: Patio Reception</span><br class="style1">\n<span class="style1">6:30pm: Dinner Seating</span></p>\n<p class="style1">Join the South Mountain/Laveen Chapter to celebrate the rich \nhistory and cultural diversity of South Mountain at the 5th Annual Spirit of \nSouth Mountain Awards Dinner at The Secret Garden in Phoenix. The event will \ncelebrate successful community partnering between entities that contribute to \nour quality of life.</p>\n<p class="style3"><strong><span class="style5">Award Categories:</span><br class="style5">\n</strong><span class="style5">Local Business: South Mountain/Laveen</span><br class="style5">\n<span class="style5">Non-Profit Agency</span><br class="style5">\n<span class="style5">Individual Volunteer for 2009</span><br class="style5">\n<span class="style5">Local Government Agency</span><br class="style5">\n<span class="style5">Education/School Administrator</span><br class="style5">\n<br class="style5"><strong><span class="style4"><a href="http://phoenixchamber.com/pdf/Spirit of South Mountain Awards Application.pdf">\n<span class="style6">Click here</span></a></span></strong><span class="style5"> \nto download an Award Application</span><br class="style5"><br class="style5">\n<span class="style5">No refunds will be made for cancellations within 72 hours. \n
LOCATION:2501 E. Baseline Rd.\, Phoenix\, AZ 85042
UID:e.2665.1865
SEQUENCE:3
DTSTAMP:20260423T201211Z
URL:https://business.phoenixchamber.com/events/details/spirit-of-south-mountain-awards-dinner-02-25-2010-1865
END:VEVENT

END:VCALENDAR
