BEGIN:VCALENDAR
VERSION:2.0
PRODID:-//ChamberMaster//Event Calendar 2.0//EN
METHOD:PUBLISH
X-PUBLISHED-TTL:P3D
REFRESH-INTERVAL:P3D
CALSCALE:GREGORIAN
BEGIN:VEVENT
DTSTART:20111213T183000Z
DTEND:20111213T203000Z
X-MICROSOFT-CDO-ALLDAYEVENT:FALSE
SUMMARY:The Waste Management Phoenix Open Tee Off Luncheon presented by CA Technologies
DESCRIPTION:This event is sold-out.  \n\n	\n	Thank you. \n\n\n\n\n11:30am: Reception \n\n\nNoon: Luncheon and Program \n\n1:30pm: Adjournment \nThe annual Waste Management Phoenix Open Tee Off Luncheon presented by CA Technologies officially kicks off ''Open Season'' in Phoenix. This year's special guests include Jack Nicklaus and 2011 WMPO Champion Mark Wilson. \n\n\n\n\nJack Nicklaus has been named Male Athlete of the Century by Sports Illustrated and has played in five Phoenix Opens\, winning the 1964 Phoenix Open. Defending Waste Management Phoenix Open Champion Mark Wilson is coming off the best year of his professional career having won two times in 2011 and claiming four top-10 finishes.\n\n\n\n\nNo Refunds will be made for cancellations within 72 hours \nof the event.
X-ALT-DESC;FMTTYPE=text/html:<p><center>\n<font color="red">\n\n\n\n\nThis event is sold-out.  <br />\n	\n	Thank you. </font></center>\n</p>\n\n<p><br>\n11:30am: Reception \n<br>\nNoon: Luncheon and Program <br>\n1:30pm: Adjournment&nbsp\;\n<p>The annual Waste Management Phoenix Open Tee Off Luncheon presented by CA Technologies officially kicks off ''Open Season'' in Phoenix. This year's special guests include Jack Nicklaus and 2011 WMPO Champion Mark Wilson. \n<br>\n<br>\nJack Nicklaus has been named Male Athlete of the Century by Sports Illustrated and has played in five Phoenix Opens\, winning the 1964 Phoenix Open. Defending Waste Management Phoenix Open Champion Mark Wilson is coming off the best year of his professional career having won two times in 2011 and claiming four top-10 finishes.\n<br>\n<br>\nNo Refunds will be made for cancellations within 72 hours \nof the event.</p>\n
LOCATION:6000 E. Camelback Rd.\, Scottsdale\, AZ 85251
UID:e.2665.2424
SEQUENCE:3
DTSTAMP:20260422T092315Z
URL:https://business.phoenixchamber.com/events/details/the-waste-management-phoenix-open-tee-off-luncheon-presented-by-ca-technologies-12-13-2011-2424
END:VEVENT

END:VCALENDAR
