BEGIN:VCALENDAR
VERSION:2.0
PRODID:-//ChamberMaster//Event Calendar 2.0//EN
METHOD:PUBLISH
X-PUBLISHED-TTL:P3D
REFRESH-INTERVAL:P3D
CALSCALE:GREGORIAN
BEGIN:VEVENT
DTSTART:20091013T150000Z
DTEND:20091013T163000Z
X-MICROSOFT-CDO-ALLDAYEVENT:FALSE
SUMMARY:Think Green: Recycling in Phoenix
DESCRIPTION:.style1 {\n	font-family: Arial\;\n	color: #666666\;\n}\n.style3 {\n	font-family: Arial\;\n}\n.style5 {\n	font-size: 9pt\;\n	color: #666666\;\n}\n.style6 {\n	font-family: Arial\;\n	color: #666666\;\n	font-size: 9pt\;\n}\n\n\n\n\n\n\n\n\nJoin the Green Roundtable for a fieldtrip! We will take a tour of the solid waste Materials Recovery Facility to review waste and recycling activities for residential Phoenix customers. The Northern Gateway Transfer Station and Materials Recovery Facility is a new facility that is anticipated to accept approximately 1\,600 tons of solid waste per day\, seven days a week. In addition to housing a section for recyclable materials\, the complex also provides a self-haul drop-off area\, mulching of vegetation\, and public education programs. \n \n\nDon't miss this chance to learn firsthand about the recycling process right here in Phoenix.
X-ALT-DESC;FMTTYPE=text/html:<head>\n<style type="text/css">\n.style1 {\n	font-family: Arial\;\n	color: #666666\;\n}\n.style3 {\n	font-family: Arial\;\n}\n.style5 {\n	font-size: 9pt\;\n	color: #666666\;\n}\n.style6 {\n	font-family: Arial\;\n	color: #666666\;\n	font-size: 9pt\;\n}\n</style>\n</head>\n\n<font SIZE="1" class="style5">\n\n<span class="style3">\n\n<br>Join the Green Roundtable for a fieldtrip! We will take a tour of the solid waste Materials Recovery Facility to review waste and recycling activities for residential Phoenix customers. The Northern Gateway Transfer Station and Materials Recovery Facility is a new facility that is anticipated to accept approximately 1\,600 tons of solid waste per day\, seven days a week. In addition to housing a section for recyclable materials\, the complex also provides a self-haul drop-off area\, mulching of vegetation\, and public education programs. \n</span> \n</font>\n<p class="style6">Don't miss this chance to learn firsthand about the recycling process right here in Phoenix. </p>\n \n\n<p class="style1">&nbsp\;</p>\n</font>
LOCATION:30205 N. Black Canyon Highway\, Phoenix\, AZ 85085
UID:e.2665.1832
SEQUENCE:3
DTSTAMP:20260424T020729Z
URL:https://business.phoenixchamber.com/events/details/think-green-recycling-in-phoenix-10-13-2009-1832
END:VEVENT

END:VCALENDAR
