BEGIN:VCALENDAR
VERSION:2.0
PRODID:-//ChamberMaster//Event Calendar 2.0//EN
METHOD:PUBLISH
X-PUBLISHED-TTL:P3D
REFRESH-INTERVAL:P3D
CALSCALE:GREGORIAN
BEGIN:VEVENT
DTSTART:20110816T004500Z
DTEND:20110816T030000Z
X-MICROSOFT-CDO-ALLDAYEVENT:FALSE
SUMMARY:Town Hall: The Next Mayor of Phoenix
DESCRIPTION:Online registration is now closed. \nOn-site registration will be available tonight\, with limited seating. \nPlease bring a business card for entry. \n\nDoors open: 5:45pm\n\nDoors close: 6:30pm\n\nDebate: 7:00-8:00pm\nWho will lead Phoenix into the future? Hear from Mayoral candidates Wes Gullett\, Claude Mattox\, Peggy Neely and Greg Stanton at ''Town Hall: The Next Mayor of Phoenix'' on Monday\, August 15 at the Phoenix Symphony Hall. CBS 5 Phoenix anchors Sean McLaughlin and Catherine Anaya will moderate this debate featuring the mayoral candidates answering YOUR questions submitted via Facebook and Twitter. The debate will be aired LIVE on CBS 5 and Listener-supported KJZZ 91.5. Attend\, watch\, interact and get informed so you can make the best choice on Election Day. This event is FREE and open to the public\, but seating is limited\, so be sure to register today.\n\nParking is available at parking garages and on-street within blocks surrounding Symphony Hall. \nIf taking the light rail\, use the 3rd Street/Washington stop. \n\n\nClick here to see a parking map of the area.\n\nThe following are prohibited during the event:\n·         Disruptive behavior\n\n·         Flash photography/video recording\n\n·         Noisemakers\n\n·         Signs
X-ALT-DESC;FMTTYPE=text/html:\n<p><strong><center>Online registration is now closed. <br>On-site registration will be available tonight\, with limited seating. <br>Please bring a business card for entry. </center></strong></p>\n\n<p>Doors open: 5:45pm<br>\nDoors close: 6:30pm<br>\nDebate: 7:00-8:00pm</p>\n<p>Who will lead Phoenix into the future? Hear from Mayoral candidates Wes Gullett\, Claude Mattox\, Peggy Neely and Greg Stanton at ''Town Hall: The Next Mayor of Phoenix'' on Monday\, August 15 at the Phoenix Symphony Hall. CBS 5 Phoenix anchors Sean McLaughlin and Catherine Anaya will moderate this debate featuring the mayoral candidates answering YOUR questions submitted via Facebook and Twitter. The debate will be aired LIVE on CBS 5 and Listener-supported KJZZ 91.5. Attend\, watch\, interact and get informed so you can make the best choice on Election Day. This event is FREE and open to the public\, but seating is limited\, so be sure to register today.</p>\n\nParking is available at parking garages and on-street within blocks surrounding Symphony Hall. <br>If taking the light rail\, use the 3rd Street/Washington stop. <br>\n\n<a target="_blank" href="http://phoenixconventioncenter.com/extranet/pccd/parking_map.pdf">Click here to see a parking map of the area.</a>\n<br><p>The following are prohibited during the event:</p>\n<p>·&nbsp\;&nbsp\;&nbsp\;&nbsp\;&nbsp\;&nbsp\;&nbsp\;&nbsp\; Disruptive behavior<br>\n·&nbsp\;&nbsp\;&nbsp\;&nbsp\;&nbsp\;&nbsp\;&nbsp\;&nbsp\; Flash photography/video recording<br>\n·&nbsp\;&nbsp\;&nbsp\;&nbsp\;&nbsp\;&nbsp\;&nbsp\;&nbsp\; Noisemakers<br>\n·&nbsp\;&nbsp\;&nbsp\;&nbsp\;&nbsp\;&nbsp\;&nbsp\;&nbsp\; Signs</p>\n<p>&nbsp\;</p>
LOCATION:75 N. 2nd Street\, Phoenix\, AZ 85004
UID:e.2665.2336
SEQUENCE:3
DTSTAMP:20260422T154912Z
URL:https://business.phoenixchamber.com/events/details/town-hall-the-next-mayor-of-phoenix-08-15-2011-2336
END:VEVENT

END:VCALENDAR
