BEGIN:VCALENDAR
VERSION:2.0
PRODID:-//ChamberMaster//Event Calendar 2.0//EN
METHOD:PUBLISH
X-PUBLISHED-TTL:P3D
REFRESH-INTERVAL:P3D
CALSCALE:GREGORIAN
BEGIN:VEVENT
DTSTART:20100128T220000Z
DTEND:20100128T230000Z
X-MICROSOFT-CDO-ALLDAYEVENT:FALSE
SUMMARY:Transportation Committee Meeting
DESCRIPTION:.style1 {\n	font-family: Arial\;\n	font-size: 9pt\;\n	color: #666666\;\n}\n.style2 {\n	text-decoration: underline\;\n}\n\n\n\n\n\n\nTopic:  Current \nTransportation Legislation\n\nThe committee with be discussing Legislation \nsurrounding these issues and making recommendations to the Public Affairs \nCommittee.\n\nSpeaker:  Representative Andy Biggs\, \nHouse Transportation Committee Chairman will be speaking to the committee on \nupcoming transportation policy issues for this Legislative Session. \n\nLocation:\n This meeting will be held at a special location.  It \nwill be held at the House of Representatives\, (1700 W. Washington\, Phoenix\, AZ  \n85004) in meeting room 035\, located in the House basement level.  The \nattached map will give details on Visitor Parking at the Capitol.\n\n\nClick to \nview the Location Map:
X-ALT-DESC;FMTTYPE=text/html:\n<head>\n<style type="text/css">\n.style1 {\n	font-family: Arial\;\n	font-size: 9pt\;\n	color: #666666\;\n}\n.style2 {\n	text-decoration: underline\;\n}\n</style>\n</head>\n\n<body class="style1">\n\n<br><strong>Topic:</strong>&nbsp\; Current \nTransportation Legislation<br><br>The committee with be discussing Legislation \nsurrounding these issues and making recommendations to the Public Affairs \nCommittee.<br><br><strong>Speaker:&nbsp\; </strong>Representative Andy Biggs\, \nHouse Transportation Committee Chairman will be speaking to the committee on \nupcoming transportation policy issues for this Legislative Session. <br><br><strong><span class="style2">Location:\n</span>&nbsp\;</strong>This meeting will be held at a special location.&nbsp\; It \nwill be held at the House of Representatives\, (1700 W. Washington\, Phoenix\, AZ&nbsp\; \n85004) in meeting room 035\, located in the House basement level.&nbsp\; The \nattached map will give details on Visitor Parking at the Capitol.<br><br>\n<a href="http://phoenixchamber.com/pdf/Capitol%20Complex%20Map.pdf">Click to \nview the Location Map:</a>
LOCATION:
UID:e.2665.1912
SEQUENCE:3
DTSTAMP:20260423T231717Z
URL:https://business.phoenixchamber.com/events/details/transportation-committee-meeting-01-28-2010-1912
END:VEVENT

END:VCALENDAR
