BEGIN:VCALENDAR
VERSION:2.0
PRODID:-//ChamberMaster//Event Calendar 2.0//EN
METHOD:PUBLISH
X-PUBLISHED-TTL:P3D
REFRESH-INTERVAL:P3D
CALSCALE:GREGORIAN
BEGIN:VEVENT
DTSTART:20100826T220000Z
DTEND:20100826T230000Z
X-MICROSOFT-CDO-ALLDAYEVENT:FALSE
SUMMARY:Transportation Committee Meeting
DESCRIPTION:.style1 {\n	font-family: Arial\;\n	font-size: 9pt\;\n	color: #666666\;\n}\n.style2 {\n	text-decoration: underline\;\n}\n.style3 {\n	font-size: 9pt\;\n}\n\n\n\n\n\n\nThe Greater Phoenix Chamber of Commerce offers more \nthan 9 committees to get involved with and let your voice be heard. Each \ncommittee evaluates legislation and policy initiatives\, in order to make \nposition recommendations to the Public Affairs Committee.\n\nTransportation Committee:  \nWorks to increase the versatility of our regional transit system\, enhance \nairports\, and improve mobility for the region's employers\, goods\, residents and \nvisitors alike. The committee analyzes proposed transportation projects and \nadvocates for investments that will improve mobility and contribute to economic \ndevelopment of the region.
X-ALT-DESC;FMTTYPE=text/html:\n<head>\n<style type="text/css">\n.style1 {\n	font-family: Arial\;\n	font-size: 9pt\;\n	color: #666666\;\n}\n.style2 {\n	text-decoration: underline\;\n}\n.style3 {\n	font-size: 9pt\;\n}\n</style>\n</head>\n\n<body class="style1">\n\n<br><span class="style3">The Greater Phoenix Chamber of Commerce offers more \nthan 9 committees to get involved with and let your voice be heard. Each \ncommittee evaluates legislation and policy initiatives\, in order to make \nposition recommendations to the Public Affairs Committee.<br><br><strong><span class="style2">Transportation Committee: </span>&nbsp\;</strong>\nWorks to increase the versatility of our regional transit system\, enhance \nairports\, and improve mobility for the region's employers\, goods\, residents and \nvisitors alike. The committee analyzes proposed transportation projects and \nadvocates for investments that will improve mobility and contribute to economic \ndevelopment of the region.</span>
LOCATION:201 N. Central Ave.\, Ste. 2700\, Phoenix\, AZ 85004
UID:e.2665.2085
SEQUENCE:3
DTSTAMP:20260423T095919Z
URL:https://business.phoenixchamber.com/events/details/transportation-committee-meeting-08-26-2010-2085
END:VEVENT

END:VCALENDAR
