BEGIN:VCALENDAR
VERSION:2.0
PRODID:-//ChamberMaster//Event Calendar 2.0//EN
METHOD:PUBLISH
X-PUBLISHED-TTL:P3D
REFRESH-INTERVAL:P3D
CALSCALE:GREGORIAN
BEGIN:VEVENT
DTSTART:20260210T180000Z
DTEND:20260210T190000Z
X-MICROSOFT-CDO-ALLDAYEVENT:FALSE
SUMMARY:Transportation & Infrastructure Issue Committee Meeting
DESCRIPTION:Supports the development and maintenance of a balanced transportation system that improves mobility and connectivity for the region's employers\, goods\, residents and visitors. Evaluates proposed multimodal transportation projects and advocates for investments and policies that will improve mobility\, contribute to economic development of the region and build coalitions representative of the region's diverse\, multigenerational population.
X-ALT-DESC;FMTTYPE=text/html:<span style="font-size:14px\;"><span style="font-family:arial\;"><span style="color: rgb(0\, 22\, 38)\;">Supports the development and maintenance of a balanced transportation system that improves mobility and connectivity for the region&rsquo\;s employers\, goods\, residents and visitors. Evaluates proposed multimodal transportation projects and advocates for investments and policies that will improve mobility\, contribute to economic development of the region and build coalitions representative of the region&rsquo\;s diverse\, multigenerational population.</span></span></span>
LOCATION:
UID:e.2665.8237
SEQUENCE:3
DTSTAMP:20260423T115246Z
URL:https://business.phoenixchamber.com/events/details/transportation-infrastructure-issue-committee-meeting-8237
END:VEVENT

END:VCALENDAR
