BEGIN:VCALENDAR
VERSION:2.0
PRODID:-//ChamberMaster//Event Calendar 2.0//EN
METHOD:PUBLISH
X-PUBLISHED-TTL:P3D
REFRESH-INTERVAL:P3D
CALSCALE:GREGORIAN
BEGIN:VEVENT
DTSTART:20090729T003000Z
DTEND:20090729T020000Z
X-MICROSOFT-CDO-ALLDAYEVENT:FALSE
SUMMARY:Valley Young Professionals
DESCRIPTION:.style1 {\n	font-family: Arial\;\n}\n.style3 {\n	font-family: Arial\;\n	font-style: italic\;\n	color: #666666\;\n	font-size: 9pt\;\n}\n.style4 {\n	font-family: Arial\;\n	color: #666666\;\n}\n.style5 {\n	color: #666666\;\n}\n.style6 {\n	color: #666666\;\n	text-align: left\;\n	font-size: 9pt\;\n}\n.style7 {\n	font-family: Arial\;\n	color: #666666\;\n	font-size: 9pt\;\n}\n.style8 {\n	font-size: 9pt\;\n}\n.style9 {\n	font-family: Arial\;\n	font-size: 9pt\;\n}\n\n\n\n\nValley Young Professionals\n\n\nformerly under 40 Roundtable\nThe Greater Phoenix Chamber of Commerce's Valley Young \nProfessionals (VYP) will meet monthly to exchange ideas through networking\, \nprofessional development and community involvement activities. The purpose of \nVYP is to promote and preserve business growth and contribute to the betterment \nof our community while developing the Valley's next generation of leaders.\n\nPIXEL PERFECT: PROJECTING THE BEST IMAGE FOR YOUR COMPANY\n\n\nSPEAKER: Dan Vermillion\, Vermillion Photo\n\nJoin long-time professional photographer Dan Vermillion in his \nnewly renovated art studio as he discusses the best ways to project your \ncompany's image and how it will create a positive impact on your business. He \nwill touch on: \n\n	• The value of a custom image for your company\n\n	• What to expect in a photography quote\n\n	• How to be prepared for a successful corporate portrait\n	\n\nLight appetizers and drinks will be provided along with time \nto tour the studio.
X-ALT-DESC;FMTTYPE=text/html:\n<head>\n<style type="text/css">\n.style1 {\n	font-family: Arial\;\n}\n.style3 {\n	font-family: Arial\;\n	font-style: italic\;\n	color: #666666\;\n	font-size: 9pt\;\n}\n.style4 {\n	font-family: Arial\;\n	color: #666666\;\n}\n.style5 {\n	color: #666666\;\n}\n.style6 {\n	color: #666666\;\n	text-align: left\;\n	font-size: 9pt\;\n}\n.style7 {\n	font-family: Arial\;\n	color: #666666\;\n	font-size: 9pt\;\n}\n.style8 {\n	font-size: 9pt\;\n}\n.style9 {\n	font-family: Arial\;\n	font-size: 9pt\;\n}\n</style>\n</head>\n\n<font class="style1">\n<p class="style6">Valley Young Professionals<br>\n</font>\nformerly under 40 Roundtable</p>\n<p class="style7">The Greater Phoenix Chamber of Commerce's Valley Young \nProfessionals (VYP) will meet monthly to exchange ideas through networking\, \nprofessional development and community involvement activities. The purpose of \nVYP is to promote and preserve business growth and contribute to the betterment \nof our community while developing the Valley's next generation of leaders.</p>\n<font class="style8" SIZE="3">\n<p class="style4">PIXEL PERFECT: PROJECTING THE BEST IMAGE FOR YOUR COMPANY<br>\n</font><font class="style9" SIZE="3">\nSPEAKER: Dan Vermillion\, Vermillion Photo</p>\n</font><font class="style8" SIZE="3">\n<p class="style4">Join long-time professional photographer Dan Vermillion in his \nnewly renovated art studio as he discusses the best ways to project your \ncompany's image and how it will create a positive impact on your business. He \nwill touch on: </p>\n<dir>\n	<p class="style4">• The value of a custom image for your company<br>\n	• What to expect in a photography quote<br>\n	• How to be prepared for a successful corporate portrait\n	</p>\n</dir>\n<p class="style4">Light appetizers and drinks will be provided along with time \nto tour the studio.</p>\n</font>
LOCATION:124 W. McDowell Rd. \, Phoenix\, AZ 85003
UID:e.2665.1800
SEQUENCE:3
DTSTAMP:20260424T055651Z
URL:https://business.phoenixchamber.com/events/details/valley-young-professionals-07-28-2009-1800
END:VEVENT

END:VCALENDAR
