BEGIN:VCALENDAR
VERSION:2.0
PRODID:-//ChamberMaster//Event Calendar 2.0//EN
METHOD:PUBLISH
X-PUBLISHED-TTL:P3D
REFRESH-INTERVAL:P3D
CALSCALE:GREGORIAN
BEGIN:VEVENT
DTSTART:20090825T143000Z
DTEND:20090825T160000Z
X-MICROSOFT-CDO-ALLDAYEVENT:FALSE
SUMMARY:Valley Young Professionals
DESCRIPTION:DEVELOPING YOUR INSTANT-RECALL MEMORY\nSPEAKER: Sean O'Neil\, \nPresident\, Memory Dynamics\nSean O'Neil of Memory Dynamic\, Inc.\, is \none of America's most entertaining and motivating speakers on the topic of \ndeveloping an instant-recall memory. For the past 10 years\, Sean has spoken \nannually to nearly 200 businesses\, corporations and associations and has clients \nspanning virtually every industry.\nLearn tips and tricks to:\n\n	• Instantly recall names of your \n	clients & prospects\n	• Remember important dates\, times\, and appointments\n	• Retain complex lists without having to write anything \n	down\n• Double your income while cutting your stress in half
X-ALT-DESC;FMTTYPE=text/html:<p><font face="Arial" style="font-size: 9pt" color="#666666">DEVELOPING YOUR INSTANT-RECALL MEMORY</font></p>\n<p><font face="Arial" style="font-size: 9pt" color="#666666">SPEAKER: Sean O'Neil\, \nPresident\, Memory Dynamics</font></p>\n<p><font face="Arial" style="font-size: 9pt" color="#666666">Sean O'Neil of Memory Dynamic\, Inc.\, is \none of America's most entertaining and motivating speakers on the topic of \ndeveloping an instant-recall memory. For the past 10 years\, Sean has spoken \nannually to nearly 200 businesses\, corporations and associations and has clients \nspanning virtually every industry.</font></p>\n<p><font face="Arial" style="font-size: 9pt" color="#666666">Learn tips and tricks to:</font></p>\n\n	<p><font face="Arial" style="font-size: 9pt" color="#666666">• Instantly recall names of your \n	clients &amp\; prospects</font></p>\n	<p><font face="Arial" style="font-size: 9pt" color="#666666">• Remember important dates\, times\, and appointments</font></p>\n	<p><font face="Arial" style="font-size: 9pt" color="#666666">• Retain complex lists without having to write anything \n	down</font></p>\n<p><font face="Arial" style="font-size: 9pt" color="#666666">• Double your income while cutting your stress in half</font></p>\n\n
LOCATION:3540 E. Baseline Rd.\, Ste. 100\, Phoenix\, AZ 85042
UID:e.2665.1806
SEQUENCE:3
DTSTAMP:20260424T043210Z
URL:https://business.phoenixchamber.com/events/details/valley-young-professionals-08-25-2009-1806
END:VEVENT

END:VCALENDAR
