BEGIN:VCALENDAR
VERSION:2.0
PRODID:-//ChamberMaster//Event Calendar 2.0//EN
METHOD:PUBLISH
X-PUBLISHED-TTL:P3D
REFRESH-INTERVAL:P3D
CALSCALE:GREGORIAN
BEGIN:VEVENT
DTSTART:20090922T143000Z
DTEND:20090922T160000Z
X-MICROSOFT-CDO-ALLDAYEVENT:FALSE
SUMMARY:Valley Young Professionals
DESCRIPTION:.style1 {\n	font-family: Arial\;\n}\n.style4 {\n	font-family: Arial\;\n	color: #666666\;\n}\n.style6 {\n	color: #666666\;\n	text-align: left\;\n	font-size: 9pt\;\n}\n.style7 {\n	font-family: Arial\;\n	color: #666666\;\n	font-size: 9pt\;\n}\n.style8 {\n	font-size: 9pt\;\n}\n.style9 {\n	font-family: Arial\;\n	font-size: 9pt\;\n}\n\n\n\n\nValley Young Professionals\n\n\nformerly under 40 Roundtable\nThe Greater Phoenix Chamber of Commerce's Valley Young \nProfessionals (VYP) will meet monthly to exchange ideas through networking\, \nprofessional development and community involvement activities. The purpose of \nVYP is to promote and preserve business growth and contribute to the betterment \nof our community while developing the Valley's next generation of leaders.\n\nSHOULD I START A BUSINESS?\n\n\nSPEAKER: Lisha Garcia\nDirector of Diversity and Women's Business\, SBDC\n\nIf you have ever entertained the idea of starting your own business\, you don't want to miss this roundtable! Explore your inner entrepreneur with Lisha Garcia\, who serves the people and businesses of Maricopa County through the Maricopa Community Colleges Small Business Development Center.\n\n Lisha will touch on:  \n\n	• What it takes to start a small business\n\n	• Arizona requirements and small business procurement options\n\n	• How to finance a small business.\n\n\n	\nLisha will share her expertise in private/public partnerships\, strategic planning and management for small businesses. Join us to help turn your ideas into a successful business!
X-ALT-DESC;FMTTYPE=text/html:\n<head>\n<style type="text/css">\n.style1 {\n	font-family: Arial\;\n}\n.style4 {\n	font-family: Arial\;\n	color: #666666\;\n}\n.style6 {\n	color: #666666\;\n	text-align: left\;\n	font-size: 9pt\;\n}\n.style7 {\n	font-family: Arial\;\n	color: #666666\;\n	font-size: 9pt\;\n}\n.style8 {\n	font-size: 9pt\;\n}\n.style9 {\n	font-family: Arial\;\n	font-size: 9pt\;\n}\n</style>\n</head>\n\n<font class="style1">\n<p class="style6">Valley Young Professionals<br>\n</font>\nformerly under 40 Roundtable</p>\n<p class="style7">The Greater Phoenix Chamber of Commerce's Valley Young \nProfessionals (VYP) will meet monthly to exchange ideas through networking\, \nprofessional development and community involvement activities. The purpose of \nVYP is to promote and preserve business growth and contribute to the betterment \nof our community while developing the Valley's next generation of leaders.</p>\n<font class="style8" SIZE="3">\n<p class="style4">SHOULD I START A BUSINESS?<br>\n</font><font class="style9" SIZE="3">\n<strong>SPEAKER:</strong> Lisha Garcia<b><br></b>Director of Diversity and Women's Business\, SBDC</p>\n</font><font class="style8" SIZE="3">\n<p class="style4">If you have ever entertained the idea of starting your own business\, you don't want to miss this roundtable! Explore your inner entrepreneur with Lisha Garcia\, who serves the people and businesses of Maricopa County through the Maricopa Community Colleges Small Business Development Center.<br><br> Lisha will touch on:&nbsp\; </p>\n<dir>\n	<p class="style4">• What it takes to start a small business<br>\n	• Arizona requirements and small business procurement options<br>\n	• How to finance a small business.\n\n</dir>\n	\n<p class="style6">Lisha will share her expertise in private/public partnerships\, strategic planning and management for small businesses. Join us to help turn your ideas into a successful business!</p>\n\n</p>\n</font>
LOCATION:201 N. Central Ave.\, Ste. 2700\, Phoenix\, AZ 85004
UID:e.2665.1813
SEQUENCE:3
DTSTAMP:20260424T033001Z
URL:https://business.phoenixchamber.com/events/details/valley-young-professionals-09-22-2009-1813
END:VEVENT

END:VCALENDAR
