BEGIN:VCALENDAR
VERSION:2.0
PRODID:-//ChamberMaster//Event Calendar 2.0//EN
METHOD:PUBLISH
X-PUBLISHED-TTL:P3D
REFRESH-INTERVAL:P3D
CALSCALE:GREGORIAN
BEGIN:VEVENT
DTSTART:20091027T143000Z
DTEND:20091027T160000Z
X-MICROSOFT-CDO-ALLDAYEVENT:FALSE
SUMMARY:Valley Young Professionals
DESCRIPTION:.style1 {\n	font-family: Arial\;\n}\n.style8 {\n	font-size: 9pt\;\n}\n.style9 {\n	font-family: Arial\;\n	font-size: 9pt\;\n}\n.style10 {\n	font-family: Arial\;\n	color: #666666\;\n}\n.style11 {\n	color: #666666\;\n}\n.style12 {\n	font-family: Arial\;\n	font-size: 9pt\;\n	color: #666666\;\n}\n.style13 {\n	font-size: 9pt\;\n	color: #666666\;\n}\n.style14 {\n	font-family: Arial\;\n	color: #666666\;\n	text-decoration: underline\;\n}\n.style15 {\n	text-decoration: underline\;\n}\n\n\n\n\nValley Young Professionals\n\n\nformerly under 40 Roundtable\n\nThe Greater Phoenix Chamber of Commerce's Valley Young \nProfessionals (VYP) will meet monthly to exchange ideas through networking\, \nprofessional development and community involvement activities. The purpose of \nVYP is to promote and preserve business growth and contribute to the betterment \nof our community while developing the Valley's next generation of leaders.\n\n\n\n    HOW TO ACHIEVE A WORK/LIFE BALANCE\n \n\n\nWHILE MAINTAINING YOUR HECTIC SCHEDULE\n\n\n\n\n\nSPEAKER: Shaun and Brady Breese\n\nOwners of Urban Cookies\n\n\n\nA flourishing and demanding young business\, a beautiful new addition to the \nfamily\, and an active social and community life- how does this couple maintain \ntheir sanity? Shaun and Brady Breese\, owners of Urban Cookies\, have had their \nfair share of stress and chaos\, just like the rest of us.\n\n\n\nJoin us to learn from them how they manage such an ambitious life all whil
X-ALT-DESC;FMTTYPE=text/html:\n<head>\n<style type="text/css">\n.style1 {\n	font-family: Arial\;\n}\n.style8 {\n	font-size: 9pt\;\n}\n.style9 {\n	font-family: Arial\;\n	font-size: 9pt\;\n}\n.style10 {\n	font-family: Arial\;\n	color: #666666\;\n}\n.style11 {\n	color: #666666\;\n}\n.style12 {\n	font-family: Arial\;\n	font-size: 9pt\;\n	color: #666666\;\n}\n.style13 {\n	font-size: 9pt\;\n	color: #666666\;\n}\n.style14 {\n	font-family: Arial\;\n	color: #666666\;\n	text-decoration: underline\;\n}\n.style15 {\n	text-decoration: underline\;\n}\n</style>\n</head>\n\n<font class="style1">\n<span class="style13">Valley Young Professionals</span><br class="style13">\n</font>\n<span class="style12">formerly under 40 Roundtable\n\n<p>The Greater Phoenix Chamber of Commerce's Valley Young \nProfessionals (VYP) will meet monthly to exchange ideas through networking\, \nprofessional development and community involvement activities. The purpose of \nVYP is to promote and preserve business growth and contribute to the betterment \nof our community while developing the Valley's next generation of leaders.</span><font class="style8" SIZE="3"><span class="style10"><br><br>\n\n&nbsp\;&nbsp\;&nbsp\; <span class="style15">HOW TO ACHIEVE A WORK/LIFE BALANCE\n</span> </span>\n<br class="style14"><span class="style14">\nWHILE MAINTAINING YOUR HECTIC SCHEDULE</span><br class="style14">\n<br class="style10">\n</font><font class="style9" SIZE="3">\n<span class="style11">\n<strong>SPEAKER:</strong> Shaun and Brady Breese</span><br class="style11">\n<span class="style11">Owners of Urban Cookies</span></font><font class="style8" SIZE="3"><span class="style10"><br><br>\n\nA flourishing and demanding young business\, a beautiful new addition to the \nfamily\, and an active social and community life- how does this couple maintain \ntheir sanity? Shaun and Brady Breese\, owners of Urban Cookies\, have had their \nfair share of stress and chaos\, just like the rest of us.<br><br>\n\nJoin us to learn from them how they manage such an ambitious life all whil
LOCATION:4700 N. Central Ave.\, Ste. 102\, Phoenix\, AZ 85012
UID:e.2665.1858
SEQUENCE:3
DTSTAMP:20260424T020730Z
URL:https://business.phoenixchamber.com/events/details/valley-young-professionals-10-27-2009-1858
END:VEVENT

END:VCALENDAR
