BEGIN:VCALENDAR
VERSION:2.0
PRODID:-//ChamberMaster//Event Calendar 2.0//EN
METHOD:PUBLISH
X-PUBLISHED-TTL:P3D
REFRESH-INTERVAL:P3D
CALSCALE:GREGORIAN
BEGIN:VEVENT
DTSTART:20100127T003000Z
DTEND:20100127T020000Z
X-MICROSOFT-CDO-ALLDAYEVENT:FALSE
SUMMARY:Valley Young Professionals Making a Brand Stronger: Your Company\, You\, and Your City
DESCRIPTION:.style1 {\n	font-family: Arial\;\n}\n.style6 {\n	color: #666666\;\n	text-align: left\;\n	font-size: 9pt\;\n}\n.style8 {\n	font-size: 9pt\;\n}\n.style9 {\n	font-family: Arial\;\n	color: #666666\;\n	text-align: center\;\n}\n\n\n\n\nValley Young Professionals\nformally Under 40 Roundtable\n\n\n\nThe Greater Phoenix Chamber of Commerce's Valley Young Professionals (VYP) meets \nmonthly to exchange ideas through networking\, professional development and \ncommunity involvement. The purpose of VYP is to promote business growth\, further \nyour career and contribute to our community. Together\, we are developing the \nnext generation of leaders who will take Phoenix to the next level of world \nclass cities to work\, live and play in.\n\nTopic: Making \na Brand Stronger: Your Company\, You & Your City\n\nSpeakers: \nDavid Eichler and Sam Alpert\, Co-founders of David and Sam PR\n\nEvery day \nyour brand lives.  Whether you consciously do something to make it \nstronger\, or ignore it and risk its decay\, branding is always happening.\n\nEach company has a brand\, but what about cities? Much has \nbeen written lately about Phoenix's brand and many dollars have been invested to \npolish it up. David and Sam\, Cofounders of David and Sam PR\, a boutique PR firm \nbased in Phoenix that has been recognized as Ranking Arizona's #1 Small PR \nAgency for two years running\, will speak about the single most important aspect \nof Phoenix's brand which continues to go ignored\, and how it affects you.
X-ALT-DESC;FMTTYPE=text/html:\n<head>\n<style type="text/css">\n.style1 {\n	font-family: Arial\;\n}\n.style6 {\n	color: #666666\;\n	text-align: left\;\n	font-size: 9pt\;\n}\n.style8 {\n	font-size: 9pt\;\n}\n.style9 {\n	font-family: Arial\;\n	color: #666666\;\n	text-align: center\;\n}\n</style>\n</head>\n\n<font class="style1">\n<p class="style6">Valley Young Professionals<br>formally Under 40 Roundtable<br>\n<br><font class="style8" SIZE="3">\nThe Greater Phoenix Chamber of Commerce's Valley Young Professionals (VYP) meets \nmonthly to exchange ideas through networking\, professional development and \ncommunity involvement. The purpose of VYP is to promote business growth\, further \nyour career and contribute to our community. Together\, we are developing the \nnext generation of leaders who will take Phoenix to the next level of world \nclass cities to work\, live and play in.</font><br><br>Topic: M</font><span class="style1">aking \na Brand Stronger: Your Company\, You &amp\; Your City<br><br>Speakers: <font class="style8" SIZE="3">\nDavid Eichler and Sam Alpert\, Co-founders of David and Sam PR<br><br>Every day \nyour brand lives.&nbsp\; Whether you consciously do something to make it \nstronger\, or ignore it and risk its decay\, branding is always happening.\n</font></span><font class="style8" SIZE="3">\n<span class="style1">Each company has a brand\, but what about cities? Much has \nbeen written lately about Phoenix's brand and many dollars have been invested to \npolish it up. David and Sam\, Cofounders of David and Sam PR\, a boutique PR firm \nbased in Phoenix that has been recognized as Ranking Arizona's #1 Small PR \nAgency for two years running\, will speak about the single most important aspect \nof Phoenix's brand which continues to go ignored\, and how it affects you.</span><br class="style1">\n<br class="style1"><br> </p>\n</font>\n\n<p class="style9">\n&nbsp\;</p>\n\n\n
LOCATION:2410 E. Osborn Rd.\, Ste. 2\, Phoenix\, AZ 85016
UID:e.2665.1892
SEQUENCE:3
DTSTAMP:20260423T215624Z
URL:https://business.phoenixchamber.com/events/details/valley-young-professionals-making-a-brand-stronger-your-company-you-and-your-city-01-26-2010-1892
END:VEVENT

END:VCALENDAR
