BEGIN:VCALENDAR
VERSION:2.0
PRODID:-//ChamberMaster//Event Calendar 2.0//EN
METHOD:PUBLISH
X-PUBLISHED-TTL:P3D
REFRESH-INTERVAL:P3D
CALSCALE:GREGORIAN
BEGIN:VEVENT
DTSTART:20121108T143000Z
DTEND:20121108T160000Z
X-MICROSOFT-CDO-ALLDAYEVENT:FALSE
SUMMARY:Valley Young Professionals: Mentor Breakfast
DESCRIPTION:Registration for the VYP Amazon Tour is currently at capacity. \nWe thank you for your interest and hope to see you at a future VYP event.  \n\n\nSpeaker: Carolyn Andrews- ActionCOACH Firm Owner and Business/Executive Coach\n \nSpeaking Topic:   Generation Y: Do you effectively communicate with your co-workers?\n\n\n5:00-5:40 pm Registration and Networking \n\n6:00-6:25 pm Panel Presentation with Diamondback Executives\n\n6:40 pm Game Start\n\n\n\n-->\n\nThis month the Greater Phoenix Chamber of Commerce's Valley Young Professionals (VYP) will be holding an exclusive Mentor Breakfast. This event is by invitation only and is not transferrable. Invitation to this particular event is based off your participation and how often you frequent our Valley Young Professional events.\n\n\nThe VYP Mentor Breakfast will feature 10 Greater Phoenix Chamber of Commerce (GPCC) Board Members who will serve as mentors\, providing a one-of-a-kind opportunity to access valuable knowledge and recommendations from some of the Valley's top executives helping you to enhance your professional development and establish new high-profile connections. Throughout the breakfast\, three young professionals will be paired with one GPCC Board Member to allow for a group discussion. To learn more about the mentors who will be participating in our November Mentor Breakfast\, please click here to read to view bios of each participating Greater Phoenix Chamber of Commerce Board Member. \n\n\n\n\n\nFor your chance to be invited to our next Mentorship Breakfast\, please join us at our monthly Valley Young Professional events. Thank you for supporting the VYP!
X-ALT-DESC;FMTTYPE=text/html:<!-- <p><font color="red">Registration for the VYP Amazon Tour is currently at capacity. <br>We thank you for your interest and hope to see you at a future VYP event. </font></p> \n\n<p><b>\nSpeaker:</b> Carolyn Andrews- ActionCOACH Firm Owner and Business/Executive Coach<br> \n<b>Speaking Topic:</b>   Generation Y: Do you effectively communicate with your co-workers?</p>\n\n<p>\n<b>5:00-5:40 pm</b> Registration and Networking <br>\n<b>6:00-6:25 pm</b> Panel Presentation with Diamondback Executives<br>\n<b>6:40 pm</b> Game Start<br>\n</p>\n\n-->\n\n<p>This month the Greater Phoenix Chamber of Commerce's Valley Young Professionals (VYP) will be holding an exclusive Mentor Breakfast. This event is by <b><i>invitation only</b></i> and is <b><i>not transferrable</b></i>. Invitation to this particular event is based off your participation and how often you frequent our Valley Young Professional events.<br><br>\nThe VYP Mentor Breakfast will feature 10 Greater Phoenix Chamber of Commerce (GPCC) Board Members who will serve as mentors\, providing a one-of-a-kind opportunity to access valuable knowledge and recommendations from some of the Valley's top executives helping you to enhance your professional development and establish new high-profile connections. Throughout the breakfast\, three young professionals will be paired with one GPCC Board Member to allow for a group discussion. To learn more about the mentors who will be participating in our November Mentor Breakfast\, please <a target="_blank" href="http://www.phxchamber.com/PDF/Mentor_Profiles.pdf">click here</a> to read to view bios of each participating Greater Phoenix Chamber of Commerce Board Member. <br>\n\n\n<br>\nFor your chance to be invited to our next Mentorship Breakfast\, please join us at our monthly Valley Young Professional events. Thank you for supporting the VYP! <br><br>\n\n\n</p>\n\n\n
LOCATION:
UID:e.2665.2656
SEQUENCE:3
DTSTAMP:20260421T164233Z
URL:https://business.phoenixchamber.com/events/details/valley-young-professionals-mentor-breakfast-11-08-2012-2656
END:VEVENT

END:VCALENDAR
