BEGIN:VCALENDAR
VERSION:2.0
PRODID:-//ChamberMaster//Event Calendar 2.0//EN
METHOD:PUBLISH
X-PUBLISHED-TTL:P3D
REFRESH-INTERVAL:P3D
CALSCALE:GREGORIAN
BEGIN:VEVENT
DTSTART:20101209T133000Z
DTEND:20101209T153000Z
X-MICROSOFT-CDO-ALLDAYEVENT:FALSE
SUMMARY:Valley Young Professionals ‘Tis the Season for Giving Volunteer Project
DESCRIPTION:With the holidays right around the corner\, ‘tis the season to give back! Join the Valley Young Professionals as we partner with St. Vincent de Paul Society to serve meals to the homeless and economically disadvantaged. With the help of volunteers\, St. Vincent de Paul's is able to serve between 100 and 400 meals each weekday evening to families with children.\n\n\n\nWe are asking for 20 volunteers to join together in this effort and give back to our community. Register soon\, as spaces will fill up quickly!
X-ALT-DESC;FMTTYPE=text/html:<br><br>\nWith the holidays right around the corner\, ‘tis the season to give back! Join the Valley Young Professionals as we partner with St. Vincent de Paul Society to serve meals to the homeless and economically disadvantaged. With the help of volunteers\, St. Vincent de Paul's is able to serve between 100 and 400 meals each weekday evening to families with children.\n<br><br>\nWe are asking for 20 volunteers to join together in this effort and give back to our community. Register soon\, as spaces will fill up quickly!\n\n\n\n
LOCATION:1075 W. Jackson St.\, Phoenix\, AZ 85003 Parking: Enter through the gate and park alongside the building.
UID:e.2665.2152
SEQUENCE:3
DTSTAMP:20260423T041906Z
URL:https://business.phoenixchamber.com/events/details/valley-young-professionals-tis-the-season-for-giving-volunteer-project-12-09-2010-2152
END:VEVENT

END:VCALENDAR
