BEGIN:VCALENDAR
VERSION:2.0
PRODID:-//ChamberMaster//Event Calendar 2.0//EN
METHOD:PUBLISH
X-PUBLISHED-TTL:P3D
REFRESH-INTERVAL:P3D
CALSCALE:GREGORIAN
BEGIN:VEVENT
DTSTART:20110304T000000Z
DTEND:20110304T020000Z
X-MICROSOFT-CDO-ALLDAYEVENT:FALSE
SUMMARY:Valley Young Professionals Wine Tasting Event
DESCRIPTION:Seasons 52 cordially invites the VYP to an exclusive wine \ntasting event on Thursday\, March 3rd. Seasons 52\, Biltmore Fashion \nPark's newest dining destination\, is a fresh grill and wine bar which offers \nguests a fresh dining experience that celebrates living well. \n\nEnjoy a tasting \nof four wines from their award-winning international wine list along with \ncomplimentary light appetizers including their signature flatbreads.  Join \nus for a memorable networking event and indulge in the casually sophisticated \nambience of Seasons 52.
X-ALT-DESC;FMTTYPE=text/html:<p>&nbsp\;</p>\n<p>Seasons 52 cordially invites the VYP to an exclusive wine \ntasting event on Thursday\, March 3<sup>rd</sup>. Seasons 52\, Biltmore Fashion \nPark's newest dining destination\, is a fresh grill and wine bar which offers \nguests a fresh dining experience that celebrates living well. <br><br>Enjoy a tasting \nof four wines from their award-winning international wine list along with \ncomplimentary light appetizers including their signature flatbreads.&nbsp\; Join \nus for a memorable networking event and indulge in the casually sophisticated \nambience of Seasons 52.</p>\n
LOCATION:at Biltmore Fashion Park\, Phoenix\, AZ 85016
UID:e.2665.2247
SEQUENCE:3
DTSTAMP:20260422T232838Z
URL:https://business.phoenixchamber.com/events/details/valley-young-professionals-wine-tasting-event-03-03-2011-2247
END:VEVENT

END:VCALENDAR
