BEGIN:VCALENDAR
VERSION:2.0
PRODID:-//ChamberMaster//Event Calendar 2.0//EN
METHOD:PUBLISH
X-PUBLISHED-TTL:P3D
REFRESH-INTERVAL:P3D
CALSCALE:GREGORIAN
BEGIN:VEVENT
DTSTART:20120216T210000Z
DTEND:20120216T223000Z
X-MICROSOFT-CDO-ALLDAYEVENT:FALSE
SUMMARY:Vendor University - A Guide for Vendors
DESCRIPTION:How to do Business with Maricopa County\n\nLearn how to :\n\n- What the County Buys\n\n- Vendor management\n\n- E-Procurement\n\n- Registration process\n\n- Goods & Services\n\n- Commodities\n\n- Contact Information\n\n- Search for Opportunities
X-ALT-DESC;FMTTYPE=text/html:<p><strong>How to do Business with Maricopa County</strong><br>\nLearn how to :<br>\n- What the County Buys<br>\n- Vendor management<br>\n- E-Procurement<br>\n- Registration process<br>\n- Goods &amp\; Services<br>\n- Commodities<br>\n- Contact Information<br>\n- Search for Opportunities</p>\n
LOCATION:201 N. Central Ave.\, Ste. 2700\, Phoenix\, AZ 85004
UID:e.2665.2521
SEQUENCE:3
DTSTAMP:20260422T060111Z
URL:https://business.phoenixchamber.com/events/details/vendor-university-a-guide-for-vendors-02-16-2012-2521
END:VEVENT

END:VCALENDAR
