BEGIN:VCALENDAR
VERSION:2.0
PRODID:-//ChamberMaster//Event Calendar 2.0//EN
METHOD:PUBLISH
X-PUBLISHED-TTL:P3D
REFRESH-INTERVAL:P3D
CALSCALE:GREGORIAN
BEGIN:VEVENT
DTSTART:20110408T143000Z
DTEND:20110408T230000Z
X-MICROSOFT-CDO-ALLDAYEVENT:FALSE
SUMMARY:Villages in Transition III
DESCRIPTION:Join South Mountain Community College as they host Villages In Transition III\, the third in a series of community dialogues designed to focus on issues including growth and development\, education\, transportation and public safety.  The goal of the daylong session is for individuals from community organizations and leaders throughout the South Mountain region to come together and examine where these communities are today\, and how to plan for their future. During the course of the day\, participants will hear panel discussions and engage in open dialogue with community leaders on a variety of topics.  A historical overview of the communities and personal stories reflecting the history of the area\, facilitated by the SMCC Storytelling Institute\, will also take place. \n\n\n\nRegistration fee is $20 per person\, and includes breakfast and lunch. \nFor the day's agenda\, please click \nhere.
X-ALT-DESC;FMTTYPE=text/html:<p>Join South Mountain Community College as they host <b>Villages In Transition III</b>\, the third in a series of community dialogues designed to focus on issues including growth and development\, education\, transportation and public safety.  The goal of the daylong session is for individuals from community organizations and leaders throughout the South Mountain region to come together and examine where these communities are today\, and how to plan for their future. During the course of the day\, participants will hear panel discussions and engage in open dialogue with community leaders on a variety of topics.  A historical overview of the communities and personal stories reflecting the history of the area\, facilitated by the SMCC Storytelling Institute\, will also take place. \n<br><br>\nRegistration fee is $20 per person\, and includes breakfast and lunch. <br>For the day's agenda\, please click \n<a target="_blank" href="http://about.southmountaincc.edu/NewsEvents/Villages+in+Transition+III/Default.htm">here</a>. \n</p>\n
LOCATION:7050 S. 24th St.\, Phoenix\, AZ 85042
UID:e.2665.2303
SEQUENCE:3
DTSTAMP:20260422T220138Z
URL:https://business.phoenixchamber.com/events/details/villages-in-transition-iii-04-08-2011-2303
END:VEVENT

END:VCALENDAR
