BEGIN:VCALENDAR
VERSION:2.0
PRODID:-//ChamberMaster//Event Calendar 2.0//EN
METHOD:PUBLISH
X-PUBLISHED-TTL:P3D
REFRESH-INTERVAL:P3D
CALSCALE:GREGORIAN
BEGIN:VEVENT
DTSTART:20100120T223000Z
DTEND:20100121T000000Z
X-MICROSOFT-CDO-ALLDAYEVENT:FALSE
SUMMARY:Water & Agriculture Issue Committee Joint Special Meeting With the Environment Committee
DESCRIPTION:.style1 {\n	font-family: Arial\;\n	font-size: 9pt\;\n	color: #666666\;\n}\n.style2 {\n	text-decoration: underline\;\n}\n\n\n\n\nThe Greater Phoenix Chamber of Commerce offers more than 9 committees to get involved with and let your voice be heard. Each committee evaluates legislation and policy initiatives\, in order to make position recommendations to the Public Affairs Committee.\n\n\nWater & Agriculture Issue Committee:  Works to create water management and agricultural policies that will support continued business expansion and the maintenance of a high quality of life. \n\n\nThis will be a special joint meeting with the Environment Committee.\n\n\nGuest Speaker:  Mike Anable\nPolicy Advisor on Natural Resources to \nGovernor Brewer
X-ALT-DESC;FMTTYPE=text/html:<head>\n<style type="text/css">\n.style1 {\n	font-family: Arial\;\n	font-size: 9pt\;\n	color: #666666\;\n}\n.style2 {\n	text-decoration: underline\;\n}\n</style>\n</head>\n\n<span class="style1">\nThe Greater Phoenix Chamber of Commerce offers more than 9 committees to get involved with and let your voice be heard. Each committee evaluates legislation and policy initiatives\, in order to make position recommendations to the Public Affairs Committee.<strong><span class="style2">\n<br><br>Water &amp\; Agriculture Issue Committee:</span></strong>&nbsp\; Works to create water management and agricultural policies that will support continued business expansion and the maintenance of a high quality of life.&nbsp\;\n<br><br>This will be a special joint meeting with the Environment Committee.<br>\n<br>Guest Speaker:&nbsp\; Mike Anable<br>Policy Advisor on Natural Resources to \nGovernor Brewer</span><br class="style1"><br class="style1">
LOCATION:201 N. Central Ave.\, Ste. 2700\, Phoenix\, AZ 85004
UID:e.2665.1954
SEQUENCE:3
DTSTAMP:20260423T232117Z
URL:https://business.phoenixchamber.com/events/details/water-agriculture-issue-committee-joint-special-meeting-with-the-environment-committee-01-20-2010-1954
END:VEVENT

END:VCALENDAR
