BEGIN:VCALENDAR
VERSION:2.0
PRODID:-//ChamberMaster//Event Calendar 2.0//EN
METHOD:PUBLISH
X-PUBLISHED-TTL:P3D
REFRESH-INTERVAL:P3D
CALSCALE:GREGORIAN
BEGIN:VEVENT
DTSTART:20120117T220000Z
DTEND:20120117T230000Z
X-MICROSOFT-CDO-ALLDAYEVENT:FALSE
SUMMARY:Workforce Committee Meeting
DESCRIPTION:Issue Committees: As part of the Public Affairs Committee\, the issue committees offer the Chamber additional guidance\,\nleadership\, and participation before and during the legislative season.\n\nWorkforce Issue Committee: monitors overall employment regulation issues related to the cost and quality of doing business in the Valley.\nWorks to strengthen academic accountability to create a stronger future workforce.\n\nReview of legislation\n\n\n\n\n\nWorkforce Meeting Agenda 1 17 12\n\n\nItem A. Workforce Bill Tracking (as of 1-11-12)\n\n\nItem B. Backgrounder on SB 1264 from 2011 Session on WC Compensability\n\n\nItem C. Background Check Draft 11-17-11\n\n\nItem D. Security Guard Agency License\; qualifications (draft bill 1-9-12)\n\n\nItem E. Security Guards\; regulations (draft bill  1-9-12)\nNO ITEM ‘F' TO DOWNLOAD YET\n\n<a target="_blank" href="http://www.phxchamber.com/PADocs/Workforce%20MTG%201-17-12/Item%20G.%20Un
X-ALT-DESC;FMTTYPE=text/html:<br><p><b>Issue Committees:</b> As part of the Public Affairs Committee\, the issue committees offer the Chamber additional guidance\,\nleadership\, and participation before and during the legislative season.</p>\n\n<b>Workforce Issue Committee:</b> monitors overall employment regulation issues related to the cost and quality of doing business in the Valley.\nWorks to strengthen academic accountability to create a stronger future workforce.\n<p>\nReview of legislation\n</p>\n\n\n<p>\n<a target="_blank" href="http://www.phxchamber.com/PADocs/Workforce%20MTG%201-17-12/Workforce%20Meeting%20Agenda%201%2017%2012.pdf">\nWorkforce Meeting Agenda 1 17 12</a></p>\n<p>\n<a target="_blank" href="http://www.phxchamber.com/PADocs/Workforce%20MTG%201-17-12/Item%20A.%20Workforce%20bill%20tracking%20list%20(as%20of%201-11-12).pdf">\nItem A. Workforce Bill Tracking (as of 1-11-12)</a></p>\n<p>\n<a target="_blank" href="http://www.phxchamber.com/PADocs/Workforce%20MTG%201-17-12/Item%20B.%20Backgrounder%20on%20SB%201264%20from%202011%20session%20on%20wc%20compensibility.pdf">\nItem B. Backgrounder on SB 1264 from 2011 Session on WC Compensability</a></p>\n<p>\n<a target="_blank" href="http://www.phxchamber.com/PADocs/Workforce%20MTG%201-17-12/Item%20C.%20background%20check%20draft%2011.17.11.pdf">\nItem C. Background Check Draft 11-17-11</a></p>\n<p>\n<a target="_blank" href="http://www.phxchamber.com/PADocs/Workforce%20MTG%201-17-12/Item%20D.%20security%20guard%20agency%20license\;%20qualifications%20(draft%20bill%201-9-12).pdf">\nItem D. Security Guard Agency License\; qualifications (draft bill 1-9-12)</a></p>\n<p>\n<a target="_blank" href="http://www.phxchamber.com/PADocs/Workforce%20MTG%201-17-12/Item%20E.%20security%20guards\;%20regulations%20(draft%20bill%20%201-9-12).pdf">\nItem E. Security Guards\; regulations (draft bill&nbsp\; 1-9-12)</a></p>\n<p>NO ITEM ‘F' TO DOWNLOAD YET</p>\n<p>\n<a target="_blank" href="http://www.phxchamber.com/PADocs/Workforce%20MTG%201-17-12/Item%20G.%20Un
LOCATION:201 N. Central Ave.\, Phoenix\, AZ 85004
UID:e.2665.2462
SEQUENCE:3
DTSTAMP:20260422T073258Z
URL:https://business.phoenixchamber.com/events/details/workforce-committee-meeting-01-17-2012-2462
END:VEVENT

END:VCALENDAR
