BEGIN:VCALENDAR
VERSION:2.0
PRODID:-//ChamberMaster//Event Calendar 2.0//EN
METHOD:PUBLISH
X-PUBLISHED-TTL:P3D
REFRESH-INTERVAL:P3D
CALSCALE:GREGORIAN
BEGIN:VEVENT
DTSTART:20110120T220000Z
DTEND:20110120T230000Z
X-MICROSOFT-CDO-ALLDAYEVENT:FALSE
SUMMARY:Workforce Committee Meeting
DESCRIPTION:.style1 {\n	font-family: Arial\;\n	font-size: 9pt\;\n	color: #666666\;\n}\n.style2 {\n	text-decoration: underline\;\n}\n.style3 {\n	font-size: 9pt\;\n}\n\n\n\n\n\n\n\nThe Greater Phoenix Chamber of Commerce offers more \nthan 9 committees to get involved with and let your voice be heard. Each \ncommittee evaluates legislation and policy initiatives\, in order to make \nposition recommendations to the Public Affairs Committee.\n\n\n\nPlease note that this meeting is being held at the Concourse Level of the Chase tower in the Canyon Room.
X-ALT-DESC;FMTTYPE=text/html:<head>\n<style type="text/css">\n.style1 {\n	font-family: Arial\;\n	font-size: 9pt\;\n	color: #666666\;\n}\n.style2 {\n	text-decoration: underline\;\n}\n.style3 {\n	font-size: 9pt\;\n}\n</style>\n</head>\n\n<body class="style1">\n\n<br><br><span class="style3">The Greater Phoenix Chamber of Commerce offers more \nthan 9 committees to get involved with and let your voice be heard. Each \ncommittee evaluates legislation and policy initiatives\, in order to make \nposition recommendations to the Public Affairs Committee.<br><br>\n\n<b>Please note that this meeting is being held at the Concourse Level of the Chase tower in the Canyon Room.</b>
LOCATION:201 N. Central Ave.\, Phoenix\, AZ 85004
UID:e.2665.2250
SEQUENCE:3
DTSTAMP:20260423T040552Z
URL:https://business.phoenixchamber.com/events/details/workforce-committee-meeting-01-20-2011-2250
END:VEVENT

END:VCALENDAR
