BEGIN:VCALENDAR
VERSION:2.0
PRODID:-//ChamberMaster//Event Calendar 2.0//EN
METHOD:PUBLISH
X-PUBLISHED-TTL:P3D
REFRESH-INTERVAL:P3D
CALSCALE:GREGORIAN
BEGIN:VEVENT
DTSTART:20110920T223000Z
DTEND:20110920T233000Z
X-MICROSOFT-CDO-ALLDAYEVENT:FALSE
SUMMARY:Workforce Committee Meeting
DESCRIPTION:Issue Committees: As part of the Public Affairs Committee\, the issue committees offer the Chamber additional guidance\,\nleadership\, and participation before and during the legislative season.\n\nWorkforce Issue Committee: monitors overall employment regulation issues related to the cost and quality of doing business in the Valley.\nWorks to strengthen academic accountability to create a stronger future workforce.
X-ALT-DESC;FMTTYPE=text/html:<br><p><b>Issue Committees:</b> As part of the Public Affairs Committee\, the issue committees offer the Chamber additional guidance\,\nleadership\, and participation before and during the legislative season.</p>\n\n<b>Workforce Issue Committee:</b> monitors overall employment regulation issues related to the cost and quality of doing business in the Valley.\nWorks to strengthen academic accountability to create a stronger future workforce.
LOCATION:201 N. Central Ave.\, Phoenix\, AZ 85004
UID:e.2665.2393
SEQUENCE:3
DTSTAMP:20260422T135714Z
URL:https://business.phoenixchamber.com/events/details/workforce-committee-meeting-09-20-2011-2393
END:VEVENT

END:VCALENDAR
