BEGIN:VCALENDAR
VERSION:2.0
PRODID:-//ChamberMaster//Event Calendar 2.0//EN
METHOD:PUBLISH
X-PUBLISHED-TTL:P3D
REFRESH-INTERVAL:P3D
CALSCALE:GREGORIAN
BEGIN:VEVENT
DTSTART:20260826T173000Z
DTEND:20260827T000000Z
X-MICROSOFT-CDO-ALLDAYEVENT:FALSE
SUMMARY:Workforce Summit
DESCRIPTION:The Greater Phoenix Chamber Foundation is excited to host its annual Workforce Summit on August 26th\, 2026\, bringing together employers\, education\, and workforce development leaders from across Arizona.\n\n\n\nThis robust program will feature renowned keynote presenters and panels of local experts to discuss workforce trends affecting business. Attendees will have the opportunity to explore specific issues that may be impacting their business and walk away with tangible workforce solutions.\n\n\n\nWhy attend? \n\n	Hear dynamic presentations from industry and education experts \n	Participate in interactive breakout sessions \n	Learn best practices to strengthen your talent attraction and retention strategies \n	Network and connect with community leaders to build partnerships \n\n\n\nTopics at this year's Summit include: TBD\n\n\n\nThe Workforce Summit is YOUR opportunity to learn about available resources in workforce development and hear how other employers have maximized these tools.\n\n\n\nRegister today!\n\n\n\n\nSponsorship \n\nIncrease your company exposure at the Workforce Summit by participating as a sponsor. Sponsors will be invited to attend the event\, host an exhibitor booth\, and receive various recognition benefits prior to and at the event.  \n\nInterested in sponsorship? View our sponsorship opportunities or contact sponsorship@phoenixchamber.com!\n\n\n\nPlease register by August 19th. Payments must be made in advance and no refunds will be given for cancellations made after 5 p.m. on August 14th.
X-ALT-DESC;FMTTYPE=text/html:<span style="font-size:14px\;"><span style="font-family:arial\;">The Greater Phoenix Chamber Foundation is excited to host its annual <strong>Workforce Summit</strong> on <strong>August 26th\, 2026</strong>\, bringing together employers\, education\, and workforce development leaders from across Arizona.<br />\n<br />\nThis robust program will feature renowned keynote presenters and panels of local experts to discuss workforce trends affecting business. Attendees will have the opportunity to explore specific issues that may be impacting their business&mdash\;and walk away with tangible workforce solutions.<br />\n<br />\n<strong>Why attend?</strong> </span></span>\n<ul>\n	<li><span style="font-size:14px\;"><span style="font-family:arial\;">Hear dynamic presentations from industry and education experts </span></span></li>\n	<li><span style="font-size:14px\;"><span style="font-family:arial\;">Participate in interactive breakout sessions </span></span></li>\n	<li><span style="font-size:14px\;"><span style="font-family:arial\;">Learn best practices to strengthen your talent attraction and retention strategies </span></span></li>\n	<li><span style="font-size:14px\;"><span style="font-family:arial\;">Network and connect with community leaders to build partnerships </span></span></li>\n</ul>\n<br />\n<span style="font-size:14px\;"><span style="font-family:arial\;">Topics at this year&rsquo\;s Summit include: TBD<br />\n<br />\nThe Workforce Summit is YOUR opportunity to learn about available resources in workforce development and hear how other employers have maximized these tools.<br />\n<br />\n<strong>Register today!</strong></span></span>\n\n<div class="OutlineElement Ltr SCXW104404636 BCX0" font-size:="" segoe="" style="-webkit-user-drag: none\; -webkit-tap-highlight-color: transparent\; margin: 0px\; padding: 0px\; user-select: text\; clear: both\; cursor: text\; overflow: visible\; position: relative\; direction: ltr\; color: rgb(0\, 0\, 0)\; font-family: " ui="">\n<p class="Paragraph SCXW104404636 BCX0" paraeid="{c73916d6-1fb1-49cf-a6d8-b9723ac0b31c}{200}" paraid="27695518" style="-webkit-user-drag: none\; -webkit-tap-highlight-color: transparent\; margin: 0px\; padding: 0px\; user-select: text\; overflow-wrap: break-word\; white-space-collapse: preserve\; vertical-align: baseline\; font-kerning: none\; background-color: transparent\;"><br />\n<span style="font-size:14px\;"><span style="font-family:arial\;"><strong><u>Sponsorship</u></strong>&nbsp\;<br />\nIncrease your company exposure at the Workforce Summit by participating as a sponsor. Sponsors will be invited to attend the event\, host an exhibitor booth\, and receive various recognition benefits prior to and at the event.&nbsp\;&nbsp\;<br />\nInterested in sponsorship? <a href="https://phoenixchamberfoundation.com/wp-content/uploads/2025/06/WFSummit2025_SponsorBenefitPackage.pdf" target="_blank">View our sponsorship opportunities</a> or contact <a href="mailto:sponsorship@phoenixchamber.com" target="_blank">sponsorship@phoenixchamber.com</a>!<br />\n<br />\nPlease register by August 19th. Payments must be made in advance and no refunds will be given for cancellations made after 5 p.m. on August 14th.</span></span><br />\n&nbsp\;</p>\n</div>\n
LOCATION:Marriott Phoenix Airport 1101 N 44th St. Phoenix\, AZ 85008
UID:e.2665.8469
SEQUENCE:3
DTSTAMP:20260419T222154Z
URL:https://business.phoenixchamber.com/events/details/workforce-summit-8469
END:VEVENT

END:VCALENDAR
