BEGIN:VCALENDAR
VERSION:2.0
PRODID:-//ChamberMaster//Event Calendar 2.0//EN
METHOD:PUBLISH
X-PUBLISHED-TTL:P3D
REFRESH-INTERVAL:P3D
CALSCALE:GREGORIAN
BEGIN:VEVENT
DTSTART:20090715T183000Z
DTEND:20090715T200000Z
X-MICROSOFT-CDO-ALLDAYEVENT:FALSE
SUMMARY:Your Chamber is YOUR GOLDMINE!
DESCRIPTION:YOUR MEMBERSHIP \nOFFERS YOU A GREAT OPPORTUNITY TO GROW YOUR BUSINESS.\n Ever attended a networking event\, and left with the overwhelming feeling that you just collected a stack of business cards that may not lead anywhere?  Join us for a free session on the steps you can take to grow your business through referral based marketing. Instead of playing the numbers game- learn to build professional relationships that can help you to work smarter\, not harder. This hour and a half workshop is offered exclusively to members of Greater Phoenix Chamber of Commerce by Victoria Trafton\, owner of the Referral Institute of Central Arizona. She will teach you the right way to network\, with the goal of Creating Referrals for Life.\n \nThis session will \nhelp you find your starting point so you can make the most out of your \nmembership. Referral Institute specializes in helping business owners create \nReferrals for Life in their business. They provide this specialtraining session \nso you can:\n• Determine who you \nneed to meet\n\n• Systematically develop relationships with fellow members\n\n• Find ways to help each other get more business\n\n• Give and get more referrals through the Chamber\nLight refreshments \nwill be served. Feel free to bring your lunch.\nFacilitated by:\n\nVictoria Trafton\, Owner\n\nReferral Institute of Central Arizona\nDon't miss this \nopportunity to get the most out of your Chamber membership!
X-ALT-DESC;FMTTYPE=text/html:\n<p><font face="Arial" style="font-size: 9pt" color="#666666">YOUR MEMBERSHIP \nOFFERS YOU A GREAT OPPORTUNITY TO GROW YOUR BUSINESS.</font></p>\n<p> <font face="Arial" style="font-size: 9pt" color="#666666">Ever attended a networking event\, and left with the overwhelming feeling that you just collected a stack of business cards that may not lead anywhere?  Join us for a free session on the steps you can take to grow your business through referral based marketing. Instead of playing the numbers game- learn to build professional relationships that can help you to work smarter\, not harder. This hour and a half workshop is offered exclusively to members of Greater Phoenix Chamber of Commerce by Victoria Trafton\, owner of the Referral Institute of Central Arizona. She will teach you the right way to network\, with the goal of Creating Referrals for Life.\n</font> </p>\n<p><font face="Arial" style="font-size: 9pt" color="#666666">This session will \nhelp you find your starting point so you can make the most out of your \nmembership. Referral Institute specializes in helping business owners create \nReferrals for Life in their business. They provide this specialtraining session \nso you can:</font></p>\n<p><font face="Arial" style="font-size: 9pt" color="#666666">• Determine who you \nneed to meet<br>\n• Systematically develop relationships with fellow members<br>\n• Find ways to help each other get more business<br>\n• Give and get more referrals through the Chamber</font></p>\n<p><font face="Arial" style="font-size: 9pt" color="#666666">Light refreshments \nwill be served. Feel free to bring your lunch.</font></p>\n<p><font face="Arial" style="font-size: 9pt" color="#666666"><b>Facilitated by:</b><br>\nVictoria Trafton\, Owner<br>\nReferral Institute of Central Arizona</font></p>\n<p><font face="Arial" style="font-size: 9pt" color="#666666">Don't miss this \nopportunity to get the most out of your Chamber membership!</font></p>\n<p>&nbsp\;</p>
LOCATION:201 N. Central Ave.\, Ste. 2700\, Phoenix\, AZ 85004
UID:e.2665.1799
SEQUENCE:3
DTSTAMP:20260424T055826Z
URL:https://business.phoenixchamber.com/events/details/your-chamber-is-your-goldmine-07-15-2009-1799
END:VEVENT

END:VCALENDAR
