BEGIN:VCALENDAR
VERSION:2.0
PRODID:-//ChamberMaster//Event Calendar 2.0//EN
METHOD:PUBLISH
X-PUBLISHED-TTL:P3D
REFRESH-INTERVAL:P3D
CALSCALE:GREGORIAN
BEGIN:VEVENT
DTSTART:20101020T181500Z
DTEND:20101020T200000Z
X-MICROSOFT-CDO-ALLDAYEVENT:FALSE
SUMMARY:Your Chamber is YOUR GOLDMINE! Increase Your Bottom Line With Referral Marketing
DESCRIPTION:.style1 {\n	font-family: Arial\;\n	font-size: 9pt\;\n	color: #666666\;\n}\n\n\n\nYOUR MEMBERSHIP \nOFFERS YOU A GREAT OPPORTUNITY TO GROW YOUR BUSINESS.\nFacilitated by: Victoria Trafton\, Owner\n\nReferral Institute of Central Arizona\nAre you getting the most out of your investment of time \nand money in the Chamber? Networking is like mining for gold. You can strike it \nrich and find a vein or end up with a few nuggets. Knowledge of referral \nmarketing turns the casual networker into a power networker.\n\n\nThis session will help you:\n\n\n• Effectively network to get more \nreferrals.\n• Interact with people \nin a way that builds positive word-of-mouth about you.\n\n• Measure your time investment and return from the Chamber.\n\n\nDon't miss this opportunity to \nget the most out of your Chamber membership!  Light refreshments will be \nserved. Feel free to bring your lunch.\n\n\nParking is in the Chase Tower Garage \nlocated on First Street\, between Van Buren and Monroe streets. Take the parking \ngarage elevator down to the ''T'' level\, walk through the tunnel into the \nbuilding\, up the stairs and take the center bank of elevators to the 27th floor.  \nPLEASE BRING YOUR PARKING TICKET TO THE CHAMBER'S RECEPTION DESK FOR VALIDATION
X-ALT-DESC;FMTTYPE=text/html:\n<head>\n<style type="text/css">\n.style1 {\n	font-family: Arial\;\n	font-size: 9pt\;\n	color: #666666\;\n}\n</style>\n</head>\n\n<p><font face="Arial" style="font-size: 9pt" color="#666666">YOUR MEMBERSHIP \nOFFERS YOU A GREAT OPPORTUNITY TO GROW YOUR BUSINESS.</font></p>\n<p><font face="Arial" style="font-size: 9pt" color="#666666"><b>Facilitated by: </b>Victoria Trafton\, Owner<br>\nReferral Institute of Central Arizona</font></p>\n<p><span class="style1">Are you getting the most out of your investment of time \nand money in the Chamber? Networking is like mining for gold. You can strike it \nrich and find a vein or end up with a few nuggets. Knowledge of referral \nmarketing turns the casual networker into a power networker.<br></span>\n<br class="style1"><span class="style1">This session will help you:<br></span>\n<br class="style1"><span class="style1">• Effectively network to get more \nreferrals.</span><br class="style1"><span class="style1">• Interact with people \nin a way that builds positive word-of-mouth about you.</span><br class="style1">\n<span class="style1">• Measure your time investment and return from the Chamber.<br>\n</span><br class="style1"><span class="style1">Don't miss this opportunity to \nget the most out of your Chamber membership!&nbsp\; Light refreshments will be \nserved. Feel free to bring your lunch.</span><br class="style1">\n<br class="style1"><span class="style1">Parking is in the Chase Tower Garage \nlocated on First Street\, between Van Buren and Monroe streets. Take the parking \ngarage elevator down to the ''T'' level\, walk through the tunnel into the \nbuilding\, up the stairs and take the center bank of elevators to the 27th floor.&nbsp\; \nPLEASE BRING YOUR PARKING TICKET TO THE CHAMBER'S RECEPTION DESK FOR VALIDATION</span></p>\n<p>&nbsp\;</p>\n<p>&nbsp\;</p>
LOCATION:201 N. Central Ave.\, Ste. 2700\, Phoenix\, AZ 85004
UID:e.2665.2132
SEQUENCE:3
DTSTAMP:20260423T071004Z
URL:https://business.phoenixchamber.com/events/details/your-chamber-is-your-goldmine-increase-your-bottom-line-with-referral-marketing-10-20-2010-2132
END:VEVENT

END:VCALENDAR
